BEGIN:VCALENDAR
VERSION:2.0
PRODID:-//Jim Glenn - Drums, Percussion, Performer, Educator, Composer - ECPv6.15.20//NONSGML v1.0//EN
CALSCALE:GREGORIAN
METHOD:PUBLISH
X-WR-CALNAME:Jim Glenn - Drums, Percussion, Performer, Educator, Composer
X-ORIGINAL-URL:https://drumjg.com
X-WR-CALDESC:Events for Jim Glenn - Drums, Percussion, Performer, Educator, Composer
REFRESH-INTERVAL;VALUE=DURATION:PT1H
X-Robots-Tag:noindex
X-PUBLISHED-TTL:PT1H
BEGIN:VTIMEZONE
TZID:America/New_York
BEGIN:DAYLIGHT
TZOFFSETFROM:-0500
TZOFFSETTO:-0400
TZNAME:EDT
DTSTART:20240310T070000
END:DAYLIGHT
BEGIN:STANDARD
TZOFFSETFROM:-0400
TZOFFSETTO:-0500
TZNAME:EST
DTSTART:20241103T060000
END:STANDARD
BEGIN:DAYLIGHT
TZOFFSETFROM:-0500
TZOFFSETTO:-0400
TZNAME:EDT
DTSTART:20250309T070000
END:DAYLIGHT
BEGIN:STANDARD
TZOFFSETFROM:-0400
TZOFFSETTO:-0500
TZNAME:EST
DTSTART:20251102T060000
END:STANDARD
BEGIN:DAYLIGHT
TZOFFSETFROM:-0500
TZOFFSETTO:-0400
TZNAME:EDT
DTSTART:20260308T070000
END:DAYLIGHT
BEGIN:STANDARD
TZOFFSETFROM:-0400
TZOFFSETTO:-0500
TZNAME:EST
DTSTART:20261101T060000
END:STANDARD
END:VTIMEZONE
BEGIN:VEVENT
DTSTART;TZID=America/New_York:20250706T170000
DTEND;TZID=America/New_York:20250706T200000
DTSTAMP:20260420T145801
CREATED:20250620T140727Z
LAST-MODIFIED:20250702T143726Z
UID:10000037-1751821200-1751832000@drumjg.com
SUMMARY:Hawkins Road @The Lake House
DESCRIPTION:
URL:https://drumjg.com/event/hawkins-road-the-lake-house/2025-07-06/
LOCATION:The Lake House\, 611 Taylor Road\, Newfield\, NJ\, 08344\, United States
CATEGORIES:Hawkins Road
END:VEVENT
BEGIN:VEVENT
DTSTART;TZID=America/New_York:20250709T183000
DTEND;TZID=America/New_York:20250709T223000
DTSTAMP:20260420T145801
CREATED:20250620T063048Z
LAST-MODIFIED:20250620T135035Z
UID:10000004-1752085800-1752100200@drumjg.com
SUMMARY:Golden Nugget - Hawkins Road
DESCRIPTION:
URL:https://drumjg.com/event/golden-nugget-hawkins-road/2025-07-09/
LOCATION:The Deck\, the Marina at the Golden Nugget\, 600 Huron Ave\, Atlantic City\, 08401\, United States
CATEGORIES:Hawkins Road
END:VEVENT
BEGIN:VEVENT
DTSTART;TZID=America/New_York:20250713T170000
DTEND;TZID=America/New_York:20250713T200000
DTSTAMP:20260420T145801
CREATED:20250620T140727Z
LAST-MODIFIED:20250702T143726Z
UID:10000038-1752426000-1752436800@drumjg.com
SUMMARY:Hawkins Road @The Lake House
DESCRIPTION:
URL:https://drumjg.com/event/hawkins-road-the-lake-house/2025-07-13/
LOCATION:The Lake House\, 611 Taylor Road\, Newfield\, NJ\, 08344\, United States
CATEGORIES:Hawkins Road
END:VEVENT
BEGIN:VEVENT
DTSTART;TZID=America/New_York:20250720T170000
DTEND;TZID=America/New_York:20250720T200000
DTSTAMP:20260420T145801
CREATED:20250620T140727Z
LAST-MODIFIED:20250702T143726Z
UID:10000039-1753030800-1753041600@drumjg.com
SUMMARY:Hawkins Road @The Lake House
DESCRIPTION:
URL:https://drumjg.com/event/hawkins-road-the-lake-house/2025-07-20/
LOCATION:The Lake House\, 611 Taylor Road\, Newfield\, NJ\, 08344\, United States
CATEGORIES:Hawkins Road
END:VEVENT
BEGIN:VEVENT
DTSTART;TZID=America/New_York:20250723T183000
DTEND;TZID=America/New_York:20250723T223000
DTSTAMP:20260420T145801
CREATED:20250620T063048Z
LAST-MODIFIED:20250620T135035Z
UID:10000005-1753295400-1753309800@drumjg.com
SUMMARY:Golden Nugget - Hawkins Road
DESCRIPTION:
URL:https://drumjg.com/event/golden-nugget-hawkins-road/2025-07-23/
LOCATION:The Deck\, the Marina at the Golden Nugget\, 600 Huron Ave\, Atlantic City\, 08401\, United States
CATEGORIES:Hawkins Road
END:VEVENT
BEGIN:VEVENT
DTSTART;TZID=America/New_York:20250727T170000
DTEND;TZID=America/New_York:20250727T200000
DTSTAMP:20260420T145801
CREATED:20250620T140727Z
LAST-MODIFIED:20250702T143726Z
UID:10000040-1753635600-1753646400@drumjg.com
SUMMARY:Hawkins Road @The Lake House
DESCRIPTION:
URL:https://drumjg.com/event/hawkins-road-the-lake-house/2025-07-27/
LOCATION:The Lake House\, 611 Taylor Road\, Newfield\, NJ\, 08344\, United States
CATEGORIES:Hawkins Road
END:VEVENT
BEGIN:VEVENT
DTSTART;TZID=America/New_York:20250730T183000
DTEND;TZID=America/New_York:20250730T223000
DTSTAMP:20260420T145801
CREATED:20250620T063048Z
LAST-MODIFIED:20250620T135035Z
UID:10000006-1753900200-1753914600@drumjg.com
SUMMARY:Golden Nugget - Hawkins Road
DESCRIPTION:
URL:https://drumjg.com/event/golden-nugget-hawkins-road/2025-07-30/
LOCATION:The Deck\, the Marina at the Golden Nugget\, 600 Huron Ave\, Atlantic City\, 08401\, United States
CATEGORIES:Hawkins Road
END:VEVENT
END:VCALENDAR