BEGIN:VCALENDAR
VERSION:2.0
PRODID:-//Jim Glenn - Drums, Percussion, Performer, Educator, Composer - ECPv6.15.20//NONSGML v1.0//EN
CALSCALE:GREGORIAN
METHOD:PUBLISH
X-WR-CALNAME:Jim Glenn - Drums, Percussion, Performer, Educator, Composer
X-ORIGINAL-URL:https://drumjg.com
X-WR-CALDESC:Events for Jim Glenn - Drums, Percussion, Performer, Educator, Composer
REFRESH-INTERVAL;VALUE=DURATION:PT1H
X-Robots-Tag:noindex
X-PUBLISHED-TTL:PT1H
BEGIN:VTIMEZONE
TZID:America/New_York
BEGIN:DAYLIGHT
TZOFFSETFROM:-0500
TZOFFSETTO:-0400
TZNAME:EDT
DTSTART:20240310T070000
END:DAYLIGHT
BEGIN:STANDARD
TZOFFSETFROM:-0400
TZOFFSETTO:-0500
TZNAME:EST
DTSTART:20241103T060000
END:STANDARD
BEGIN:DAYLIGHT
TZOFFSETFROM:-0500
TZOFFSETTO:-0400
TZNAME:EDT
DTSTART:20250309T070000
END:DAYLIGHT
BEGIN:STANDARD
TZOFFSETFROM:-0400
TZOFFSETTO:-0500
TZNAME:EST
DTSTART:20251102T060000
END:STANDARD
BEGIN:DAYLIGHT
TZOFFSETFROM:-0500
TZOFFSETTO:-0400
TZNAME:EDT
DTSTART:20260308T070000
END:DAYLIGHT
BEGIN:STANDARD
TZOFFSETFROM:-0400
TZOFFSETTO:-0500
TZNAME:EST
DTSTART:20261101T060000
END:STANDARD
END:VTIMEZONE
BEGIN:VEVENT
DTSTART;TZID=America/New_York:20250813T183000
DTEND;TZID=America/New_York:20250813T223000
DTSTAMP:20260420T174600
CREATED:20250620T063048Z
LAST-MODIFIED:20250620T135035Z
UID:10000008-1755109800-1755124200@drumjg.com
SUMMARY:Golden Nugget - Hawkins Road
DESCRIPTION:
URL:https://drumjg.com/event/golden-nugget-hawkins-road/2025-08-13/
LOCATION:The Deck\, the Marina at the Golden Nugget\, 600 Huron Ave\, Atlantic City\, 08401\, United States
CATEGORIES:Hawkins Road
END:VEVENT
BEGIN:VEVENT
DTSTART;TZID=America/New_York:20250817T170000
DTEND;TZID=America/New_York:20250817T200000
DTSTAMP:20260420T174600
CREATED:20250620T140727Z
LAST-MODIFIED:20250702T143726Z
UID:10000043-1755450000-1755460800@drumjg.com
SUMMARY:Hawkins Road @The Lake House
DESCRIPTION:
URL:https://drumjg.com/event/hawkins-road-the-lake-house/2025-08-17/
LOCATION:The Lake House\, 611 Taylor Road\, Newfield\, NJ\, 08344\, United States
CATEGORIES:Hawkins Road
END:VEVENT
BEGIN:VEVENT
DTSTART;TZID=America/New_York:20250820T183000
DTEND;TZID=America/New_York:20250820T223000
DTSTAMP:20260420T174600
CREATED:20250620T063048Z
LAST-MODIFIED:20250620T135035Z
UID:10000009-1755714600-1755729000@drumjg.com
SUMMARY:Golden Nugget - Hawkins Road
DESCRIPTION:
URL:https://drumjg.com/event/golden-nugget-hawkins-road/2025-08-20/
LOCATION:The Deck\, the Marina at the Golden Nugget\, 600 Huron Ave\, Atlantic City\, 08401\, United States
CATEGORIES:Hawkins Road
END:VEVENT
BEGIN:VEVENT
DTSTART;TZID=America/New_York:20250824T170000
DTEND;TZID=America/New_York:20250824T200000
DTSTAMP:20260420T174600
CREATED:20250620T140727Z
LAST-MODIFIED:20250702T143726Z
UID:10000044-1756054800-1756065600@drumjg.com
SUMMARY:Hawkins Road @The Lake House
DESCRIPTION:
URL:https://drumjg.com/event/hawkins-road-the-lake-house/2025-08-24/
LOCATION:The Lake House\, 611 Taylor Road\, Newfield\, NJ\, 08344\, United States
CATEGORIES:Hawkins Road
END:VEVENT
BEGIN:VEVENT
DTSTART;TZID=America/New_York:20250827T183000
DTEND;TZID=America/New_York:20250827T223000
DTSTAMP:20260420T174600
CREATED:20250620T063048Z
LAST-MODIFIED:20250620T135035Z
UID:10000010-1756319400-1756333800@drumjg.com
SUMMARY:Golden Nugget - Hawkins Road
DESCRIPTION:
URL:https://drumjg.com/event/golden-nugget-hawkins-road/2025-08-27/
LOCATION:The Deck\, the Marina at the Golden Nugget\, 600 Huron Ave\, Atlantic City\, 08401\, United States
CATEGORIES:Hawkins Road
END:VEVENT
END:VCALENDAR