BEGIN:VCALENDAR
VERSION:2.0
PRODID:-//Jim Glenn - Drums, Percussion, Performer, Educator, Composer - ECPv6.15.20//NONSGML v1.0//EN
CALSCALE:GREGORIAN
METHOD:PUBLISH
X-WR-CALNAME:Jim Glenn - Drums, Percussion, Performer, Educator, Composer
X-ORIGINAL-URL:https://drumjg.com
X-WR-CALDESC:Events for Jim Glenn - Drums, Percussion, Performer, Educator, Composer
REFRESH-INTERVAL;VALUE=DURATION:PT1H
X-Robots-Tag:noindex
X-PUBLISHED-TTL:PT1H
BEGIN:VTIMEZONE
TZID:America/New_York
BEGIN:DAYLIGHT
TZOFFSETFROM:-0500
TZOFFSETTO:-0400
TZNAME:EDT
DTSTART:20240310T070000
END:DAYLIGHT
BEGIN:STANDARD
TZOFFSETFROM:-0400
TZOFFSETTO:-0500
TZNAME:EST
DTSTART:20241103T060000
END:STANDARD
BEGIN:DAYLIGHT
TZOFFSETFROM:-0500
TZOFFSETTO:-0400
TZNAME:EDT
DTSTART:20250309T070000
END:DAYLIGHT
BEGIN:STANDARD
TZOFFSETFROM:-0400
TZOFFSETTO:-0500
TZNAME:EST
DTSTART:20251102T060000
END:STANDARD
BEGIN:DAYLIGHT
TZOFFSETFROM:-0500
TZOFFSETTO:-0400
TZNAME:EDT
DTSTART:20260308T070000
END:DAYLIGHT
BEGIN:STANDARD
TZOFFSETFROM:-0400
TZOFFSETTO:-0500
TZNAME:EST
DTSTART:20261101T060000
END:STANDARD
END:VTIMEZONE
BEGIN:VEVENT
DTSTART;TZID=America/New_York:20250920T213000
DTEND;TZID=America/New_York:20250920T213000
DTSTAMP:20260420T012922
CREATED:20250919T125745Z
LAST-MODIFIED:20250919T180441Z
UID:10000110-1758403800-1758403800@drumjg.com
SUMMARY:Party Wave
DESCRIPTION:
URL:https://drumjg.com/event/party-wave/
LOCATION:Voodoo Lounge at Harrah’s\, 777 Harrah's Blvd\, Atlantic City\, NJ\, 08401\, United States
CATEGORIES:Party Wave
END:VEVENT
BEGIN:VEVENT
DTSTART;TZID=America/New_York:20250719T220000
DTEND;TZID=America/New_York:20250720T010000
DTSTAMP:20260420T012922
CREATED:20250624T173709Z
LAST-MODIFIED:20250624T173712Z
UID:10000101-1752962400-1752973200@drumjg.com
SUMMARY:Party Wave - Golden Nugget
DESCRIPTION:
URL:https://drumjg.com/event/party-wave-golden-nugget-3/
LOCATION:The Deck\, the Marina at the Golden Nugget\, 600 Huron Ave\, Atlantic City\, 08401\, United States
CATEGORIES:Party Wave
END:VEVENT
BEGIN:VEVENT
DTSTART;TZID=America/New_York:20250711T210000
DTEND;TZID=America/New_York:20250712T010000
DTSTAMP:20260420T012922
CREATED:20250624T173620Z
LAST-MODIFIED:20250624T173623Z
UID:10000100-1752267600-1752282000@drumjg.com
SUMMARY:Party Wave - Voodoo Lounge at Harrah's
DESCRIPTION:
URL:https://drumjg.com/event/party-wave-voodoo-lounge-at-harrahs/
LOCATION:Voodoo Lounge at Harrah’s\, 777 Harrah's Blvd\, Atlantic City\, NJ\, 08401\, United States
CATEGORIES:Party Wave
END:VEVENT
BEGIN:VEVENT
DTSTART;TZID=America/New_York:20250704T200000
DTEND;TZID=America/New_York:20250705T010000
DTSTAMP:20260420T012922
CREATED:20250624T172854Z
LAST-MODIFIED:20250624T172857Z
UID:10000099-1751659200-1751677200@drumjg.com
SUMMARY:Party Wave - Golden Nugget
DESCRIPTION:
URL:https://drumjg.com/event/party-wave-golden-nugget-2/
LOCATION:The Deck\, the Marina at the Golden Nugget\, 600 Huron Ave\, Atlantic City\, 08401\, United States
CATEGORIES:Party Wave
END:VEVENT
BEGIN:VEVENT
DTSTART;TZID=America/New_York:20250627T210000
DTEND;TZID=America/New_York:20250627T210000
DTSTAMP:20260420T012922
CREATED:20250620T133749Z
LAST-MODIFIED:20250622T052058Z
UID:10000016-1751058000-1751058000@drumjg.com
SUMMARY:Carney's - Party Wave
DESCRIPTION:
URL:https://drumjg.com/event/carneys/
LOCATION:Carney’s\, 411 Beach Ave\, Cape May\, NJ\, 08204\, United States
CATEGORIES:Party Wave
END:VEVENT
END:VCALENDAR