BEGIN:VCALENDAR
VERSION:2.0
PRODID:-//Jim Glenn - Drums, Percussion, Performer, Educator, Composer - ECPv6.15.20//NONSGML v1.0//EN
CALSCALE:GREGORIAN
METHOD:PUBLISH
X-ORIGINAL-URL:https://drumjg.com
X-WR-CALDESC:Events for Jim Glenn - Drums, Percussion, Performer, Educator, Composer
REFRESH-INTERVAL;VALUE=DURATION:PT1H
X-Robots-Tag:noindex
X-PUBLISHED-TTL:PT1H
BEGIN:VTIMEZONE
TZID:America/New_York
BEGIN:DAYLIGHT
TZOFFSETFROM:-0500
TZOFFSETTO:-0400
TZNAME:EDT
DTSTART:20250309T070000
END:DAYLIGHT
BEGIN:STANDARD
TZOFFSETFROM:-0400
TZOFFSETTO:-0500
TZNAME:EST
DTSTART:20251102T060000
END:STANDARD
BEGIN:DAYLIGHT
TZOFFSETFROM:-0500
TZOFFSETTO:-0400
TZNAME:EDT
DTSTART:20260308T070000
END:DAYLIGHT
BEGIN:STANDARD
TZOFFSETFROM:-0400
TZOFFSETTO:-0500
TZNAME:EST
DTSTART:20261101T060000
END:STANDARD
BEGIN:DAYLIGHT
TZOFFSETFROM:-0500
TZOFFSETTO:-0400
TZNAME:EDT
DTSTART:20270314T070000
END:DAYLIGHT
BEGIN:STANDARD
TZOFFSETFROM:-0400
TZOFFSETTO:-0500
TZNAME:EST
DTSTART:20271107T060000
END:STANDARD
END:VTIMEZONE
BEGIN:VEVENT
DTSTART;TZID=America/New_York:20260607T130000
DTEND;TZID=America/New_York:20260607T170000
DTSTAMP:20260420T014631
CREATED:20260206T164559Z
LAST-MODIFIED:20260206T164559Z
UID:10000153-1780837200-1780851600@drumjg.com
SUMMARY:Party Wave ACS Bike-a-thon Ventnor ski beach
DESCRIPTION:
URL:https://drumjg.com/event/party-wave-acs-bike-a-thon-ventnor-ski-beach/
END:VEVENT
BEGIN:VEVENT
DTSTART;TZID=America/New_York:20260607T170000
DTEND;TZID=America/New_York:20260607T200000
DTSTAMP:20260420T014631
CREATED:20260206T170540Z
LAST-MODIFIED:20260206T180904Z
UID:10000294-1780851600-1780862400@drumjg.com
SUMMARY:Hawkins Road @ The Lake House
DESCRIPTION:
URL:https://drumjg.com/event/hawkins-road-the-lake-house-2/2026-06-07/
END:VEVENT
BEGIN:VEVENT
DTSTART;TZID=America/New_York:20260608T190000
DTEND;TZID=America/New_York:20260608T220000
DTSTAMP:20260420T014631
CREATED:20260206T164759Z
LAST-MODIFIED:20260206T164759Z
UID:10000154-1780945200-1780956000@drumjg.com
SUMMARY:Party Wave - St. Anthony's Festival - Wilmington De.
DESCRIPTION:
URL:https://drumjg.com/event/party-wave-st-anthonys-festival-wilmington-de/2026-06-08/
END:VEVENT
BEGIN:VEVENT
DTSTART;TZID=America/New_York:20260612T190000
DTEND;TZID=America/New_York:20260612T220000
DTSTAMP:20260420T014631
CREATED:20260206T164759Z
LAST-MODIFIED:20260206T164759Z
UID:10000155-1781290800-1781301600@drumjg.com
SUMMARY:Party Wave - St. Anthony's Festival - Wilmington De.
DESCRIPTION:
URL:https://drumjg.com/event/party-wave-st-anthonys-festival-wilmington-de/2026-06-12/
END:VEVENT
BEGIN:VEVENT
DTSTART;TZID=America/New_York:20260613T190000
DTEND;TZID=America/New_York:20260613T220000
DTSTAMP:20260420T014631
CREATED:20260206T165110Z
LAST-MODIFIED:20260206T165110Z
UID:10000157-1781377200-1781388000@drumjg.com
SUMMARY:Party Wave Wedding - private
DESCRIPTION:
URL:https://drumjg.com/event/party-wave-wedding-private/
END:VEVENT
BEGIN:VEVENT
DTSTART;TZID=America/New_York:20260614T170000
DTEND;TZID=America/New_York:20260614T200000
DTSTAMP:20260420T014631
CREATED:20260206T170540Z
LAST-MODIFIED:20260206T180904Z
UID:10000295-1781456400-1781467200@drumjg.com
SUMMARY:Hawkins Road @ The Lake House
DESCRIPTION:
URL:https://drumjg.com/event/hawkins-road-the-lake-house-2/2026-06-14/
END:VEVENT
BEGIN:VEVENT
DTSTART;TZID=America/New_York:20260616T190000
DTEND;TZID=America/New_York:20260616T220000
DTSTAMP:20260420T014631
CREATED:20260317T135753Z
LAST-MODIFIED:20260317T140619Z
UID:10000317-1781636400-1781647200@drumjg.com
SUMMARY:Hawkins Cove! at  the Deck
DESCRIPTION:Don’t let the name fool you! Yes it’s still the Hawkins Road gang with a little less Country and more Yacht Rock and Reggea
URL:https://drumjg.com/event/hawkins-cove-at-the-deck-2/2026-06-16/
END:VEVENT
BEGIN:VEVENT
DTSTART;TZID=America/New_York:20260621T170000
DTEND;TZID=America/New_York:20260621T200000
DTSTAMP:20260420T014631
CREATED:20260206T170540Z
LAST-MODIFIED:20260206T180904Z
UID:10000296-1782061200-1782072000@drumjg.com
SUMMARY:Hawkins Road @ The Lake House
DESCRIPTION:
URL:https://drumjg.com/event/hawkins-road-the-lake-house-2/2026-06-21/
END:VEVENT
BEGIN:VEVENT
DTSTART;TZID=America/New_York:20260624T190000
DTEND;TZID=America/New_York:20260624T220000
DTSTAMP:20260420T014631
CREATED:20260206T165236Z
LAST-MODIFIED:20260206T165236Z
UID:10000158-1782327600-1782338400@drumjg.com
SUMMARY:Atlantic City Boardwalk Concert   w Tony Marts presents
DESCRIPTION:
URL:https://drumjg.com/event/atlantic-city-boardwalk-concert-w-tony-marts-presents/
END:VEVENT
BEGIN:VEVENT
DTSTART;TZID=America/New_York:20260628T170000
DTEND;TZID=America/New_York:20260628T200000
DTSTAMP:20260420T014631
CREATED:20260206T170540Z
LAST-MODIFIED:20260206T180904Z
UID:10000297-1782666000-1782676800@drumjg.com
SUMMARY:Hawkins Road @ The Lake House
DESCRIPTION:
URL:https://drumjg.com/event/hawkins-road-the-lake-house-2/2026-06-28/
END:VEVENT
BEGIN:VEVENT
DTSTART;TZID=America/New_York:20260630T190000
DTEND;TZID=America/New_York:20260630T220000
DTSTAMP:20260420T014631
CREATED:20260317T135753Z
LAST-MODIFIED:20260317T140619Z
UID:10000318-1782846000-1782856800@drumjg.com
SUMMARY:Hawkins Cove! at  the Deck
DESCRIPTION:Don’t let the name fool you! Yes it’s still the Hawkins Road gang with a little less Country and more Yacht Rock and Reggea
URL:https://drumjg.com/event/hawkins-cove-at-the-deck-2/2026-06-30/
END:VEVENT
BEGIN:VEVENT
DTSTART;TZID=America/New_York:20260704T190000
DTEND;TZID=America/New_York:20260704T220000
DTSTAMP:20260420T014631
CREATED:20260206T165340Z
LAST-MODIFIED:20260206T165340Z
UID:10000159-1783191600-1783202400@drumjg.com
SUMMARY:Party Wave - Marina Deck @ Golden Nugget
DESCRIPTION:
URL:https://drumjg.com/event/party-wave-marina-deck-golden-nugget/
END:VEVENT
BEGIN:VEVENT
DTSTART;TZID=America/New_York:20260705T170000
DTEND;TZID=America/New_York:20260705T200000
DTSTAMP:20260420T014631
CREATED:20260206T170540Z
LAST-MODIFIED:20260206T180904Z
UID:10000298-1783270800-1783281600@drumjg.com
SUMMARY:Hawkins Road @ The Lake House
DESCRIPTION:
URL:https://drumjg.com/event/hawkins-road-the-lake-house-2/2026-07-05/
END:VEVENT
BEGIN:VEVENT
DTSTART;TZID=America/New_York:20260707T190000
DTEND;TZID=America/New_York:20260707T220000
DTSTAMP:20260420T014631
CREATED:20260317T135753Z
LAST-MODIFIED:20260317T140619Z
UID:10000319-1783450800-1783461600@drumjg.com
SUMMARY:Hawkins Cove! at  the Deck
DESCRIPTION:Don’t let the name fool you! Yes it’s still the Hawkins Road gang with a little less Country and more Yacht Rock and Reggea
URL:https://drumjg.com/event/hawkins-cove-at-the-deck-2/2026-07-07/
END:VEVENT
BEGIN:VEVENT
DTSTART;TZID=America/New_York:20260711T190000
DTEND;TZID=America/New_York:20260711T220000
DTSTAMP:20260420T014631
CREATED:20260317T143253Z
LAST-MODIFIED:20260317T143253Z
UID:10000328-1783796400-1783807200@drumjg.com
SUMMARY:Party Wave @ Corinthian Yacht Club Cape May
DESCRIPTION:
URL:https://drumjg.com/event/party-wave-corinthian-yacht-club-cape-may/
END:VEVENT
BEGIN:VEVENT
DTSTART;TZID=America/New_York:20260712T170000
DTEND;TZID=America/New_York:20260712T200000
DTSTAMP:20260420T014631
CREATED:20260206T170540Z
LAST-MODIFIED:20260206T180904Z
UID:10000299-1783875600-1783886400@drumjg.com
SUMMARY:Hawkins Road @ The Lake House
DESCRIPTION:
URL:https://drumjg.com/event/hawkins-road-the-lake-house-2/2026-07-12/
END:VEVENT
BEGIN:VEVENT
DTSTART;TZID=America/New_York:20260717T190000
DTEND;TZID=America/New_York:20260717T220000
DTSTAMP:20260420T014631
CREATED:20260206T165452Z
LAST-MODIFIED:20260206T201614Z
UID:10000160-1784314800-1784325600@drumjg.com
SUMMARY:Party Wave- Concert in Cape May
DESCRIPTION:
URL:https://drumjg.com/event/party-wave-concert-in-cape-may/
END:VEVENT
BEGIN:VEVENT
DTSTART;TZID=America/New_York:20260719T170000
DTEND;TZID=America/New_York:20260719T200000
DTSTAMP:20260420T014631
CREATED:20260206T170540Z
LAST-MODIFIED:20260206T180904Z
UID:10000300-1784480400-1784491200@drumjg.com
SUMMARY:Hawkins Road @ The Lake House
DESCRIPTION:
URL:https://drumjg.com/event/hawkins-road-the-lake-house-2/2026-07-19/
END:VEVENT
BEGIN:VEVENT
DTSTART;TZID=America/New_York:20260721T190000
DTEND;TZID=America/New_York:20260721T220000
DTSTAMP:20260420T014631
CREATED:20260317T135753Z
LAST-MODIFIED:20260317T140619Z
UID:10000320-1784660400-1784671200@drumjg.com
SUMMARY:Hawkins Cove! at  the Deck
DESCRIPTION:Don’t let the name fool you! Yes it’s still the Hawkins Road gang with a little less Country and more Yacht Rock and Reggea
URL:https://drumjg.com/event/hawkins-cove-at-the-deck-2/2026-07-21/
END:VEVENT
BEGIN:VEVENT
DTSTART;TZID=America/New_York:20260726T170000
DTEND;TZID=America/New_York:20260726T200000
DTSTAMP:20260420T014631
CREATED:20260206T170540Z
LAST-MODIFIED:20260206T180904Z
UID:10000301-1785085200-1785096000@drumjg.com
SUMMARY:Hawkins Road @ The Lake House
DESCRIPTION:
URL:https://drumjg.com/event/hawkins-road-the-lake-house-2/2026-07-26/
END:VEVENT
BEGIN:VEVENT
DTSTART;TZID=America/New_York:20260729T190000
DTEND;TZID=America/New_York:20260729T220000
DTSTAMP:20260420T014631
CREATED:20260206T165609Z
LAST-MODIFIED:20260206T165752Z
UID:10000161-1785351600-1785362400@drumjg.com
SUMMARY:A.C. Boardwalk Concert w Mitch Ryder
DESCRIPTION:
URL:https://drumjg.com/event/a-c-boardwalk-concert-w-mitch-ryder/
END:VEVENT
BEGIN:VEVENT
DTSTART;TZID=America/New_York:20260731T190000
DTEND;TZID=America/New_York:20260731T220000
DTSTAMP:20260420T014631
CREATED:20260206T165721Z
LAST-MODIFIED:20260206T165721Z
UID:10000162-1785524400-1785535200@drumjg.com
SUMMARY:Somers Point Beach Concert w Mitch Ryder
DESCRIPTION:
URL:https://drumjg.com/event/somers-point-beach-concert-w-mitch-ryder/
END:VEVENT
BEGIN:VEVENT
DTSTART;TZID=America/New_York:20260802T170000
DTEND;TZID=America/New_York:20260802T200000
DTSTAMP:20260420T014631
CREATED:20260206T170540Z
LAST-MODIFIED:20260206T180904Z
UID:10000302-1785690000-1785700800@drumjg.com
SUMMARY:Hawkins Road @ The Lake House
DESCRIPTION:
URL:https://drumjg.com/event/hawkins-road-the-lake-house-2/2026-08-02/
END:VEVENT
BEGIN:VEVENT
DTSTART;TZID=America/New_York:20260804T190000
DTEND;TZID=America/New_York:20260804T220000
DTSTAMP:20260420T014631
CREATED:20260317T135753Z
LAST-MODIFIED:20260317T140619Z
UID:10000321-1785870000-1785880800@drumjg.com
SUMMARY:Hawkins Cove! at  the Deck
DESCRIPTION:Don’t let the name fool you! Yes it’s still the Hawkins Road gang with a little less Country and more Yacht Rock and Reggea
URL:https://drumjg.com/event/hawkins-cove-at-the-deck-2/2026-08-04/
END:VEVENT
BEGIN:VEVENT
DTSTART;TZID=America/New_York:20260808T160000
DTEND;TZID=America/New_York:20260808T193000
DTSTAMP:20260420T014631
CREATED:20260317T144130Z
LAST-MODIFIED:20260317T144130Z
UID:10000329-1786204800-1786217400@drumjg.com
SUMMARY:Culda-sac-a-palooza!!!   Hawkins Road - Margate!!
DESCRIPTION:
URL:https://drumjg.com/event/culda-sac-a-palooza-hawkins-road-margate/
END:VEVENT
BEGIN:VEVENT
DTSTART;TZID=America/New_York:20260809T170000
DTEND;TZID=America/New_York:20260809T200000
DTSTAMP:20260420T014631
CREATED:20260206T170540Z
LAST-MODIFIED:20260206T180904Z
UID:10000303-1786294800-1786305600@drumjg.com
SUMMARY:Hawkins Road @ The Lake House
DESCRIPTION:
URL:https://drumjg.com/event/hawkins-road-the-lake-house-2/2026-08-09/
END:VEVENT
BEGIN:VEVENT
DTSTART;TZID=America/New_York:20260811T190000
DTEND;TZID=America/New_York:20260811T220000
DTSTAMP:20260420T014631
CREATED:20260317T135753Z
LAST-MODIFIED:20260317T140619Z
UID:10000325-1786474800-1786485600@drumjg.com
SUMMARY:Hawkins Cove! at  the Deck
DESCRIPTION:Don’t let the name fool you! Yes it’s still the Hawkins Road gang with a little less Country and more Yacht Rock and Reggea
URL:https://drumjg.com/event/hawkins-cove-at-the-deck-2/2026-08-11/
END:VEVENT
BEGIN:VEVENT
DTSTART;TZID=America/New_York:20260815T180000
DTEND;TZID=America/New_York:20260815T230000
DTSTAMP:20260420T014631
CREATED:20260206T164927Z
LAST-MODIFIED:20260206T164927Z
UID:10000156-1786816800-1786834800@drumjg.com
SUMMARY:Hawkins Road Private -Wedding
DESCRIPTION:
URL:https://drumjg.com/event/hawkins-road-private-wedding/
END:VEVENT
BEGIN:VEVENT
DTSTART;TZID=America/New_York:20260816T170000
DTEND;TZID=America/New_York:20260816T200000
DTSTAMP:20260420T014631
CREATED:20260206T170540Z
LAST-MODIFIED:20260206T180904Z
UID:10000304-1786899600-1786910400@drumjg.com
SUMMARY:Hawkins Road @ The Lake House
DESCRIPTION:
URL:https://drumjg.com/event/hawkins-road-the-lake-house-2/2026-08-16/
END:VEVENT
BEGIN:VEVENT
DTSTART;TZID=America/New_York:20260818T190000
DTEND;TZID=America/New_York:20260818T220000
DTSTAMP:20260420T014631
CREATED:20260317T135753Z
LAST-MODIFIED:20260317T140619Z
UID:10000326-1787079600-1787090400@drumjg.com
SUMMARY:Hawkins Cove! at  the Deck
DESCRIPTION:Don’t let the name fool you! Yes it’s still the Hawkins Road gang with a little less Country and more Yacht Rock and Reggea
URL:https://drumjg.com/event/hawkins-cove-at-the-deck-2/2026-08-18/
END:VEVENT
END:VCALENDAR