BEGIN:VCALENDAR
VERSION:2.0
PRODID:-//Jim Glenn - Drums, Percussion, Performer, Educator, Composer - ECPv6.15.20//NONSGML v1.0//EN
CALSCALE:GREGORIAN
METHOD:PUBLISH
X-WR-CALNAME:Jim Glenn - Drums, Percussion, Performer, Educator, Composer
X-ORIGINAL-URL:https://drumjg.com
X-WR-CALDESC:Events for Jim Glenn - Drums, Percussion, Performer, Educator, Composer
REFRESH-INTERVAL;VALUE=DURATION:PT1H
X-Robots-Tag:noindex
X-PUBLISHED-TTL:PT1H
BEGIN:VTIMEZONE
TZID:America/New_York
BEGIN:DAYLIGHT
TZOFFSETFROM:-0500
TZOFFSETTO:-0400
TZNAME:EDT
DTSTART:20240310T070000
END:DAYLIGHT
BEGIN:STANDARD
TZOFFSETFROM:-0400
TZOFFSETTO:-0500
TZNAME:EST
DTSTART:20241103T060000
END:STANDARD
BEGIN:DAYLIGHT
TZOFFSETFROM:-0500
TZOFFSETTO:-0400
TZNAME:EDT
DTSTART:20250309T070000
END:DAYLIGHT
BEGIN:STANDARD
TZOFFSETFROM:-0400
TZOFFSETTO:-0500
TZNAME:EST
DTSTART:20251102T060000
END:STANDARD
BEGIN:DAYLIGHT
TZOFFSETFROM:-0500
TZOFFSETTO:-0400
TZNAME:EDT
DTSTART:20260308T070000
END:DAYLIGHT
BEGIN:STANDARD
TZOFFSETFROM:-0400
TZOFFSETTO:-0500
TZNAME:EST
DTSTART:20261101T060000
END:STANDARD
END:VTIMEZONE
BEGIN:VEVENT
DTSTART;TZID=America/New_York:20251205T210000
DTEND;TZID=America/New_York:20251205T233000
DTSTAMP:20260420T001525
CREATED:20260121T200636Z
LAST-MODIFIED:20260121T200639Z
UID:10000145-1764968400-1764977400@drumjg.com
SUMMARY:Philly Live
DESCRIPTION:
URL:https://drumjg.com/event/philly-live/
END:VEVENT
BEGIN:VEVENT
DTSTART;TZID=America/New_York:20251206T210000
DTEND;TZID=America/New_York:20251206T230000
DTSTAMP:20260420T001525
CREATED:20260121T200731Z
LAST-MODIFIED:20260121T200731Z
UID:10000146-1765054800-1765062000@drumjg.com
SUMMARY:Party Wave @ Hard Rock A.C.
DESCRIPTION:
URL:https://drumjg.com/event/party-wave-hard-rock-a-c/
END:VEVENT
BEGIN:VEVENT
DTSTART;TZID=America/New_York:20251212T080000
DTEND;TZID=America/New_York:20251212T080000
DTSTAMP:20260420T001525
CREATED:20260121T200425Z
LAST-MODIFIED:20260121T200429Z
UID:10000144-1765526400-1765526400@drumjg.com
SUMMARY:Party Wave - Voodoo Lounge Harrah's A.C.
DESCRIPTION:
URL:https://drumjg.com/event/party-wave-voodoo-lounge-harrahs-a-c/
END:VEVENT
BEGIN:VEVENT
DTSTART;TZID=America/New_York:20251213T190000
DTEND;TZID=America/New_York:20251213T220000
DTSTAMP:20260420T001525
CREATED:20260121T200223Z
LAST-MODIFIED:20260121T200228Z
UID:10000143-1765652400-1765663200@drumjg.com
SUMMARY:With Patti Blee - Log Cabin Margate
DESCRIPTION:
URL:https://drumjg.com/event/with-patti-blee-log-cabin-margate/
END:VEVENT
BEGIN:VEVENT
DTSTART;TZID=America/New_York:20251231T210000
DTEND;TZID=America/New_York:20251231T210000
DTSTAMP:20260420T001525
CREATED:20260121T195748Z
LAST-MODIFIED:20260121T195801Z
UID:10000140-1767214800-1767214800@drumjg.com
SUMMARY:Party Wave @Tropicana
DESCRIPTION:
URL:https://drumjg.com/event/party-wave-tropicana/
END:VEVENT
END:VCALENDAR