BEGIN:VCALENDAR
VERSION:2.0
PRODID:-//Jim Glenn - Drums, Percussion, Performer, Educator, Composer - ECPv6.15.20//NONSGML v1.0//EN
CALSCALE:GREGORIAN
METHOD:PUBLISH
X-WR-CALNAME:Jim Glenn - Drums, Percussion, Performer, Educator, Composer
X-ORIGINAL-URL:https://drumjg.com
X-WR-CALDESC:Events for Jim Glenn - Drums, Percussion, Performer, Educator, Composer
REFRESH-INTERVAL;VALUE=DURATION:PT1H
X-Robots-Tag:noindex
X-PUBLISHED-TTL:PT1H
BEGIN:VTIMEZONE
TZID:America/New_York
BEGIN:DAYLIGHT
TZOFFSETFROM:-0500
TZOFFSETTO:-0400
TZNAME:EDT
DTSTART:20250309T070000
END:DAYLIGHT
BEGIN:STANDARD
TZOFFSETFROM:-0400
TZOFFSETTO:-0500
TZNAME:EST
DTSTART:20251102T060000
END:STANDARD
BEGIN:DAYLIGHT
TZOFFSETFROM:-0500
TZOFFSETTO:-0400
TZNAME:EDT
DTSTART:20260308T070000
END:DAYLIGHT
BEGIN:STANDARD
TZOFFSETFROM:-0400
TZOFFSETTO:-0500
TZNAME:EST
DTSTART:20261101T060000
END:STANDARD
BEGIN:DAYLIGHT
TZOFFSETFROM:-0500
TZOFFSETTO:-0400
TZNAME:EDT
DTSTART:20270314T070000
END:DAYLIGHT
BEGIN:STANDARD
TZOFFSETFROM:-0400
TZOFFSETTO:-0500
TZNAME:EST
DTSTART:20271107T060000
END:STANDARD
END:VTIMEZONE
BEGIN:VEVENT
DTSTART;TZID=America/New_York:20260214T190000
DTEND;TZID=America/New_York:20260214T220000
DTSTAMP:20260419T212322
CREATED:20260113T191536Z
LAST-MODIFIED:20260113T221137Z
UID:10000116-1771095600-1771106400@drumjg.com
SUMMARY:Party Wave at Golden Nugget - Private Event
DESCRIPTION:
URL:https://drumjg.com/event/party-wave-at-golden-nugget/
LOCATION:Golden Nugget – Rush lounge
END:VEVENT
BEGIN:VEVENT
DTSTART;TZID=America/New_York:20260221T170000
DTEND;TZID=America/New_York:20260221T210000
DTSTAMP:20260419T212322
CREATED:20260206T162131Z
LAST-MODIFIED:20260206T162131Z
UID:10000148-1771693200-1771707600@drumjg.com
SUMMARY:With Tony Pontari
DESCRIPTION:Benefit – Moose lodge Atantic City
URL:https://drumjg.com/event/with-tony-pontari/
END:VEVENT
END:VCALENDAR