BEGIN:VCALENDAR
VERSION:2.0
PRODID:-//Jim Glenn - Drums, Percussion, Performer, Educator, Composer - ECPv6.15.20//NONSGML v1.0//EN
CALSCALE:GREGORIAN
METHOD:PUBLISH
X-WR-CALNAME:Jim Glenn - Drums, Percussion, Performer, Educator, Composer
X-ORIGINAL-URL:https://drumjg.com
X-WR-CALDESC:Events for Jim Glenn - Drums, Percussion, Performer, Educator, Composer
REFRESH-INTERVAL;VALUE=DURATION:PT1H
X-Robots-Tag:noindex
X-PUBLISHED-TTL:PT1H
BEGIN:VTIMEZONE
TZID:America/New_York
BEGIN:DAYLIGHT
TZOFFSETFROM:-0500
TZOFFSETTO:-0400
TZNAME:EDT
DTSTART:20250309T070000
END:DAYLIGHT
BEGIN:STANDARD
TZOFFSETFROM:-0400
TZOFFSETTO:-0500
TZNAME:EST
DTSTART:20251102T060000
END:STANDARD
BEGIN:DAYLIGHT
TZOFFSETFROM:-0500
TZOFFSETTO:-0400
TZNAME:EDT
DTSTART:20260308T070000
END:DAYLIGHT
BEGIN:STANDARD
TZOFFSETFROM:-0400
TZOFFSETTO:-0500
TZNAME:EST
DTSTART:20261101T060000
END:STANDARD
BEGIN:DAYLIGHT
TZOFFSETFROM:-0500
TZOFFSETTO:-0400
TZNAME:EDT
DTSTART:20270314T070000
END:DAYLIGHT
BEGIN:STANDARD
TZOFFSETFROM:-0400
TZOFFSETTO:-0500
TZNAME:EST
DTSTART:20271107T060000
END:STANDARD
END:VTIMEZONE
BEGIN:VEVENT
DTSTART;TZID=America/New_York:20260514T190000
DTEND;TZID=America/New_York:20260514T230000
DTSTAMP:20260419T195042
CREATED:20260114T152807Z
LAST-MODIFIED:20260114T152807Z
UID:10000139-1778785200-1778799600@drumjg.com
SUMMARY:Party Wave Private N.J.B.A  Atlantic City
DESCRIPTION:
URL:https://drumjg.com/event/party-wave-private-n-j-b-a-atlantic-city/
END:VEVENT
BEGIN:VEVENT
DTSTART;TZID=America/New_York:20260523T190000
DTEND;TZID=America/New_York:20260523T210000
DTSTAMP:20260419T195042
CREATED:20260206T163740Z
LAST-MODIFIED:20260206T164021Z
UID:10000150-1779562800-1779570000@drumjg.com
SUMMARY:Party Wave @ Ventnor Beach Concert Series
DESCRIPTION:
URL:https://drumjg.com/event/party-wave-ventnor-beach-concert-series/
END:VEVENT
BEGIN:VEVENT
DTSTART;TZID=America/New_York:20260529T190000
DTEND;TZID=America/New_York:20260529T230000
DTSTAMP:20260419T195042
CREATED:20260206T164204Z
LAST-MODIFIED:20260206T164204Z
UID:10000151-1780081200-1780095600@drumjg.com
SUMMARY:Party Wave @Golden Nugget Marina Deck
DESCRIPTION:
URL:https://drumjg.com/event/party-wave-golden-nugget-marina-deck/
END:VEVENT
BEGIN:VEVENT
DTSTART;TZID=America/New_York:20260530T213000
DTEND;TZID=America/New_York:20260531T010000
DTSTAMP:20260419T195042
CREATED:20260206T164323Z
LAST-MODIFIED:20260206T164323Z
UID:10000152-1780176600-1780189200@drumjg.com
SUMMARY:Party Wave @ Voodoo Lounge Harrah's A.C.
DESCRIPTION:
URL:https://drumjg.com/event/party-wave-voodoo-lounge-harrahs-a-c-2/
END:VEVENT
END:VCALENDAR